BEGIN:VCALENDAR
VERSION:2.0
METHOD:PUBLISH
BEGIN:VEVENT
UID:WILD_APRICOT_EVENT_3352994_SESSION_1
DTSTART:20190508T140000Z
DTEND:20200221T130000Z
SUMMARY:AKA Conference 2019 Podcasts
LOCATION:Online
DESCRIPTION:https://www.aka.asn.au/event-3352994\n\nAKA Conference 2019 PODCASTS\n \n The AKA have available podcasts of seminars that were held at the 35th AKA Conference\, Sydney 2019. \n  A special thank you to Charles Krebs\, Sherril Taylor\, Philip Rafferty\, Bill-Lee Emery\, Bernard Carson\, Maureen Callister\, Andrew Verity\, Rachelle Sewell\, Simone Greer\, Helen Popovic\, Danny Liddell and Debbie Rossi for participating and supporting the AKA in the joint venture.\n  The podcasts are available for purchase from 9th Msy 2019 until 21st February 2020. The podcasts are accessible until 22nd March 2020.\n  All podcasts are available for purchase by all AKA members.  Non-members wishing to purchase a podcast please contact the AKA office.\n\n  Click below on "Register" to make a quick and easy electronic/online purchase.  Please allow up to 24 hours for payment to be processed to access podcasts.  Otherwise email the AKA office at enquiries@aka.asn.au or call (03) 98987406.\n  \n\n  \n\n  \n\n  .\n  \n\n
DTSTAMP:20200301T081410Z
END:VEVENT
END:VCALENDAR
