BEGIN:VCALENDAR
VERSION:2.0
METHOD:PUBLISH
BEGIN:VEVENT
UID:WILD_APRICOT_EVENT_2896323_SESSION_1
DTSTART:20190321T230000Z
DTEND:20190324T073000Z
SUMMARY:35th AKA National Conference March 2019
LOCATION:Sydney Boulevard Hotel\, Sydney
DESCRIPTION:https://www.aka.asn.au/event-2896323\n\nm  35th AKA National Conference  \n  22nd-24th March 2019\n  Sydney Boulevard Hotel\, 90 William St. Sydney\n  Enquiries: Franca Wild\, Conference Organiser  Email:conference2019@aka.asn.au\n\n  Conference General Information  click here\n  Mini Workshops Ian White and Danny Liddell. Attendance is an optional extra and not included with any conference fees. click here\n\n  Conference Program  click here  To read an overview of the presentation and speaker details\, click on the speaker's name below\n  Please note the Conference Program has been revised (February 18th)\n  Friday  Ian White\; Charles Krebs\;\nSaturday  Sherril Taylor\, Philip Rafferty\; Bill Lee-Emery\; Karen Humphries\;\nAnna Heiskari\; Bernard Carson\; Maureen Callister\;\n  Sunday  Andrew Verity\; Rachelle Sewell\; Simone Greer\; Dr. Helena Popovic\;\nDanny Liddell\; Debbie Rossi \n  Registration Form click here  OR register directly online by clicking on the Register button to your left\n\n  Accommodation click here\n  What's Included:\n  FULL Conference Package - BEST VALUE! Friday night and weekend lectures\, lunches/morning/afternoon teas\, Friday night cocktail function and Saturday night dinner dance. (Mini workshops are an optional extra)\n\n  Fri/Sat/Sun Friday night lectures and cocktail function\, weekend lectures\, lunches/morning/afternoon teas. DOES NOT include the Saturday night dinner dance. (Mini workshops are an optional extra)\n  Weekend Only Saturday/Sunday lectures\, lunches/morning/afternoon teas\n  Saturday Only Saturday lectures\, lunch/morning/afternoon tea\n  Sunday Only Sunday lectures\, lunch/morning/afternoon tea\n  First Timers Package For AKA members (all levels) attending their FIRST AKA conference. Friday night lectures and cocktail function\, weekend lectures\, lunches/morning/afternoon teas. DOES NOT include Saturday night dinner dance. (Mini workshops are an optional extra) Valid to 1st March.\n  Trade Tables Available for product\, course promotion etc. Contact the organiser for details.\n  Who's Exhibiting at the 2019 Conference? \n  RESONATE ESSENCES: Colour\, light & sound vibrational essences\, sprays & oils created in high frequency energy centres around the planet to raise your vibration & transform your life.   www.resonateessences.com\n  EQUILIBRIUM: Kinesiology and natural health books\, manuals\, charts\, tools and accessories including tuning forks\, essences and test kits. Brain Gym books and charts.  www.kinesiologyshop.com\n  BIO CIRCUITRY: Enhancing your work by providing lasting\, tested solutions to non-ionising electromagnetic radiation. Help your body recover from stress.\n Live well in a Wi-Fi world.  www.biocircuitry.com.au\n  COLLEGE OF COMPLEMENTARY MEDICINE: Kinesiology tools including crystals\, essential oils and acupressure. Discounts on Kinesiology PD workshops\, certificates and kinesiology diploma information.  www.ccm.edu.au\n  KINERGETICS RESET: Quantum IV Bioelectrical Impedance Analysis to measure your cell health. Plus information on Kinergetics and Reset Workshops.\nwww.kinergetics-reset.com\n  AUSTRALIAN BUSH FLOWER ESSENCES Course information and essences www.ausflowers.com.au\n  AON Insurance: Official provider of insurance products and services for AKA members.  www.aon.com.au\n  \n\n  Enquiries: Franca Wild\, Conference Organiser \n  conference2019@aka.asn.au\n  REGISTER: click the Register box above left for quick and easy online registration or click to download the registration form\n
DTSTAMP:20190228T033237Z
END:VEVENT
END:VCALENDAR
